BEGIN:VCALENDAR
VERSION:2.0
PRODID:-//Arcade Sages-Femmes - ECPv6.6.4.2//NONSGML v1.0//EN
CALSCALE:GREGORIAN
METHOD:PUBLISH
X-ORIGINAL-URL:https://arcade-sages-femmes.ch
X-WR-CALDESC:évènements pour Arcade Sages-Femmes
REFRESH-INTERVAL;VALUE=DURATION:PT1H
X-Robots-Tag:noindex
X-PUBLISHED-TTL:PT1H
BEGIN:VTIMEZONE
TZID:Europe/Zurich
BEGIN:DAYLIGHT
TZOFFSETFROM:+0100
TZOFFSETTO:+0200
TZNAME:CEST
DTSTART:20260329T010000
END:DAYLIGHT
BEGIN:STANDARD
TZOFFSETFROM:+0200
TZOFFSETTO:+0100
TZNAME:CET
DTSTART:20261025T010000
END:STANDARD
END:VTIMEZONE
BEGIN:VEVENT
DTSTART;TZID=Europe/Zurich:20260507T180000
DTEND;TZID=Europe/Zurich:20260507T193000
DTSTAMP:20260421T114130
CREATED:20251112T160850Z
LAST-MODIFIED:20251112T160850Z
UID:10001128-1778176800-1778182200@arcade-sages-femmes.ch
SUMMARY:Diversification alimentaire - Par Zoom
DESCRIPTION:Comment passer du lait aux petits plats? Une diététicienne et une sage-femme répondent à vos questions et vous conseillent afin de vous permettre de débuter la diversification alimentaire dans de bonnes conditions. \n\nLien\nID de réunion : 859 2016 9883\nCode secret : 075299
URL:https://arcade-sages-femmes.ch/evenement/diversification-alimentaire-par-zoom-3-7-7-6/
CATEGORIES:Après la Naissane,En Groupe,Gratuit et sans inscription
END:VEVENT
BEGIN:VEVENT
DTSTART;TZID=Europe/Zurich:20260611T180000
DTEND;TZID=Europe/Zurich:20260611T193000
DTSTAMP:20260421T114130
CREATED:20251112T161010Z
LAST-MODIFIED:20251112T161010Z
UID:10001129-1781200800-1781206200@arcade-sages-femmes.ch
SUMMARY:Diversification alimentaire - Par Zoom
DESCRIPTION:Comment passer du lait aux petits plats? Une diététicienne et une sage-femme répondent à vos questions et vous conseillent afin de vous permettre de débuter la diversification alimentaire dans de bonnes conditions. \n\nLien\nID de réunion : 864 2930 0423\nCode secret : 873329
URL:https://arcade-sages-femmes.ch/evenement/diversification-alimentaire-par-zoom-3-7-7-7/
CATEGORIES:Après la Naissane,En Groupe,Gratuit et sans inscription
END:VEVENT
END:VCALENDAR