BEGIN:VCALENDAR
VERSION:2.0
PRODID:-//Arcade Sages-Femmes - ECPv6.6.4.2//NONSGML v1.0//EN
CALSCALE:GREGORIAN
METHOD:PUBLISH
X-ORIGINAL-URL:https://arcade-sages-femmes.ch
X-WR-CALDESC:évènements pour Arcade Sages-Femmes
REFRESH-INTERVAL;VALUE=DURATION:PT1H
X-Robots-Tag:noindex
X-PUBLISHED-TTL:PT1H
BEGIN:VTIMEZONE
TZID:Europe/Zurich
BEGIN:DAYLIGHT
TZOFFSETFROM:+0100
TZOFFSETTO:+0200
TZNAME:CEST
DTSTART:20250330T010000
END:DAYLIGHT
BEGIN:STANDARD
TZOFFSETFROM:+0200
TZOFFSETTO:+0100
TZNAME:CET
DTSTART:20251026T010000
END:STANDARD
END:VTIMEZONE
BEGIN:VEVENT
DTSTART;TZID=Europe/Zurich:20251104T140000
DTEND;TZID=Europe/Zurich:20251104T153000
DTSTAMP:20260421T220959
CREATED:20241113T122949Z
LAST-MODIFIED:20251113T073931Z
UID:10000969-1762264800-1762270200@arcade-sages-femmes.ch
SUMMARY:Marche à Genève
DESCRIPTION:Venez nous rejoindre pour notre marche hebdomadaire. Nous vous conseillons de porter une tenue et des chaussures confortables. L’activité a lieu par tous les temps durant toute l’année. Sauf pendant les vacances scolaires. \nSans inscription \n 
URL:https://arcade-sages-femmes.ch/evenement/marche-hebdomadaire-2-5/2025-11-04/
LOCATION:Arcade Sages-Femmes Genève\, Carl-Vogt 85\, Genève\, 1205
CATEGORIES:Après la Naissane,En Groupe,Genève,Gratuit et sans inscription,Grossesse
ATTACH;FMTTYPE=image/jpeg:https://arcade-sages-femmes.ch/wp-content/uploads/2024/07/Haniger-17-1220-160_wide.jpg
END:VEVENT
BEGIN:VEVENT
DTSTART;TZID=Europe/Zurich:20251104T140000
DTEND;TZID=Europe/Zurich:20251104T160000
DTSTAMP:20260421T220959
CREATED:20250709T125229Z
LAST-MODIFIED:20251113T091534Z
UID:10000957-1762264800-1762272000@arcade-sages-femmes.ch
SUMMARY:Atelier Ma maison ma santé
DESCRIPTION:Un atelier collaboratif et ludique pour nous aider à créer un environnement intérieur sain en repérant les polluants de la maison et en trouvant des alternatives saines et durables. \nLors de cet atelier\, nous aborderons en particulier l’alimentation saine et durable et les contenants alimentaires. \nNous élaborerons une recette saine et gourmande. \nSans inscription
URL:https://arcade-sages-femmes.ch/evenement/nesting-atelier-de-sensibilisation-a-la-sante-environnementale-2/
LOCATION:Arcade Sages-Femmes Genève\, Carl-Vogt 85\, Genève\, 1205
CATEGORIES:Après la Naissane,En Groupe,Genève,Gratuit et sans inscription
END:VEVENT
END:VCALENDAR