BEGIN:VCALENDAR
VERSION:2.0
PRODID:-//Arcade Sages-Femmes - ECPv6.6.4.2//NONSGML v1.0//EN
CALSCALE:GREGORIAN
METHOD:PUBLISH
X-ORIGINAL-URL:https://arcade-sages-femmes.ch
X-WR-CALDESC:évènements pour Arcade Sages-Femmes
REFRESH-INTERVAL;VALUE=DURATION:PT1H
X-Robots-Tag:noindex
X-PUBLISHED-TTL:PT1H
BEGIN:VTIMEZONE
TZID:Europe/Zurich
BEGIN:DAYLIGHT
TZOFFSETFROM:+0100
TZOFFSETTO:+0200
TZNAME:CEST
DTSTART:20250330T010000
END:DAYLIGHT
BEGIN:STANDARD
TZOFFSETFROM:+0200
TZOFFSETTO:+0100
TZNAME:CET
DTSTART:20251026T010000
END:STANDARD
END:VTIMEZONE
BEGIN:VEVENT
DTSTART;TZID=Europe/Zurich:20251009T090000
DTEND;TZID=Europe/Zurich:20251009T110000
DTSTAMP:20260421T153502
CREATED:20250717T065407Z
LAST-MODIFIED:20250717T072236Z
UID:10000856-1760000400-1760007600@arcade-sages-femmes.ch
SUMMARY:Ateliers autour de la naissance à Thônex : prévention de l'épuisement parental
DESCRIPTION:Participez à notre atelier de prévention de l’épuisement parental : un moment pour souffler\, partager et trouver des clés pour mieux vivre les défis de la parentalité au quotidien. \nCette séance vous est proposée à la Parenthèse autour d’une collation. \nGratuit et sans inscription.
URL:https://arcade-sages-femmes.ch/evenement/ateliers-autour-de-la-naissance-a-thonex-2/
LOCATION:Arcade Sages-Femmes Thônex – la Parenthèse\, Avenue Tronchet 9a\, Thônex\, 1226\, Switzerland
CATEGORIES:En Groupe,Genève,Gratuit et sans inscription,Grossesse
END:VEVENT
BEGIN:VEVENT
DTSTART;TZID=Europe/Zurich:20251009T140000
DTEND;TZID=Europe/Zurich:20251009T153000
DTSTAMP:20260421T153502
CREATED:20250819T133743Z
LAST-MODIFIED:20251014T085836Z
UID:10001001-1760018400-1760023800@arcade-sages-femmes.ch
SUMMARY:Atelier découverte autour de la pleine conscience - COMPLET
DESCRIPTION:Animé par une sage-femme\, pour bébé de la naissance à six mois. \nCréez des moments de douceur et de complicité avec bébé. \nInscription
URL:https://arcade-sages-femmes.ch/evenement/atelier-decouverte-autour-du-portage-2/
LOCATION:Arcade Sages-Femmes Genève\, Carl-Vogt 85\, Genève\, 1205
CATEGORIES:Après la Naissane,En Groupe,Genève,Gratuit et sur inscription
END:VEVENT
BEGIN:VEVENT
DTSTART;TZID=Europe/Zurich:20251009T180000
DTEND;TZID=Europe/Zurich:20251009T193000
DTSTAMP:20260421T153502
CREATED:20250508T141248Z
LAST-MODIFIED:20250508T141248Z
UID:10000917-1760032800-1760038200@arcade-sages-femmes.ch
SUMMARY:Diversification alimentaire - Par Zoom
DESCRIPTION:Comment passer du lait aux petits plats? Une diététicienne et une sage-femme répondent à vos questions et vous conseillent afin de vous permettre de débuter la diversification alimentaire dans de bonnes conditions. \n\nLien\nID de réunion : 829 7740 3489\nCode secret : 601154
URL:https://arcade-sages-femmes.ch/evenement/diversification-alimentaire-par-zoom-3-7-5/
CATEGORIES:Après la Naissane,En Groupe,Gratuit et sans inscription
END:VEVENT
END:VCALENDAR