BEGIN:VCALENDAR
VERSION:2.0
PRODID:-//Arcade Sages-Femmes - ECPv6.6.4.2//NONSGML v1.0//EN
CALSCALE:GREGORIAN
METHOD:PUBLISH
X-ORIGINAL-URL:https://arcade-sages-femmes.ch
X-WR-CALDESC:évènements pour Arcade Sages-Femmes
REFRESH-INTERVAL;VALUE=DURATION:PT1H
X-Robots-Tag:noindex
X-PUBLISHED-TTL:PT1H
BEGIN:VTIMEZONE
TZID:Europe/Zurich
BEGIN:DAYLIGHT
TZOFFSETFROM:+0100
TZOFFSETTO:+0200
TZNAME:CEST
DTSTART:20250330T010000
END:DAYLIGHT
BEGIN:STANDARD
TZOFFSETFROM:+0200
TZOFFSETTO:+0100
TZNAME:CET
DTSTART:20251026T010000
END:STANDARD
END:VTIMEZONE
BEGIN:VEVENT
DTSTART;TZID=Europe/Zurich:20250920T100000
DTEND;TZID=Europe/Zurich:20250920T120000
DTSTAMP:20260421T140831
CREATED:20240809T081450Z
LAST-MODIFIED:20251112T151639Z
UID:10000881-1758362400-1758369600@arcade-sages-femmes.ch
SUMMARY:Sensibilisation à la naissance
DESCRIPTION:Dans le troisième trimestre de votre grossesse\, nous explorerons les sujets suivants : Les premières contractions et le départ à la maternité La façon d’accueillir les contractions et les sensations associées L’accueil du bébé et le retour à domicile. \nGratuit et sans inscription
URL:https://arcade-sages-femmes.ch/evenement/sensibilisation-a-la-naissance/2025-09-20/
LOCATION:Arcade Sages-Femmes Genève\, Carl-Vogt 85\, Genève\, 1205
CATEGORIES:En Groupe,Genève,Gratuit et sans inscription,Grossesse
END:VEVENT
BEGIN:VEVENT
DTSTART;TZID=Europe/Zurich:20250920T140000
DTEND;TZID=Europe/Zurich:20250920T150000
DTSTAMP:20260421T140831
CREATED:20240809T091004Z
LAST-MODIFIED:20251112T155446Z
UID:10000943-1758376800-1758380400@arcade-sages-femmes.ch
SUMMARY:Gymnastique prénatale
DESCRIPTION:L’activité physique pendant et après la grossesse est bénéfique autant pour la mère que pour l’enfant. Ces séances vous proposent des exercices adaptés pour rester en mouvement. \nGratuit et sans inscription \n 
URL:https://arcade-sages-femmes.ch/evenement/gymnastique-prenatale/2025-09-20/
LOCATION:Arcade Sages-Femmes Genève\, Carl-Vogt 85\, Genève\, 1205
CATEGORIES:En Groupe,Genève,Gratuit et sans inscription,Grossesse
END:VEVENT
BEGIN:VEVENT
DTSTART;TZID=Europe/Zurich:20250920T150000
DTEND;TZID=Europe/Zurich:20250920T160000
DTSTAMP:20260421T140831
CREATED:20240809T091934Z
LAST-MODIFIED:20251112T155930Z
UID:10000950-1758380400-1758384000@arcade-sages-femmes.ch
SUMMARY:Gymnastique postnatale
DESCRIPTION:L’activité physique pendant et après la grossesse est bénéfique autant pour la mère que pour l’enfant. Ces séances vous proposent des exercices adaptés pour rester en mouvement. \nGratuit et sans inscription
URL:https://arcade-sages-femmes.ch/evenement/gymnastique-postnatale/2025-09-20/
LOCATION:Arcade Sages-Femmes Genève\, Carl-Vogt 85\, Genève\, 1205
CATEGORIES:En Groupe,Genève,Gratuit et sans inscription,Grossesse
END:VEVENT
END:VCALENDAR