BEGIN:VCALENDAR
VERSION:2.0
PRODID:-//Arcade Sages-Femmes - ECPv6.6.4.2//NONSGML v1.0//EN
CALSCALE:GREGORIAN
METHOD:PUBLISH
X-WR-CALNAME:Arcade Sages-Femmes
X-ORIGINAL-URL:https://arcade-sages-femmes.ch
X-WR-CALDESC:évènements pour Arcade Sages-Femmes
REFRESH-INTERVAL;VALUE=DURATION:PT1H
X-Robots-Tag:noindex
X-PUBLISHED-TTL:PT1H
BEGIN:VTIMEZONE
TZID:Europe/Zurich
BEGIN:DAYLIGHT
TZOFFSETFROM:+0100
TZOFFSETTO:+0200
TZNAME:CEST
DTSTART:20250330T010000
END:DAYLIGHT
BEGIN:STANDARD
TZOFFSETFROM:+0200
TZOFFSETTO:+0100
TZNAME:CET
DTSTART:20251026T010000
END:STANDARD
END:VTIMEZONE
BEGIN:VEVENT
DTSTART;TZID=Europe/Zurich:20250915T140000
DTEND;TZID=Europe/Zurich:20250915T160000
DTSTAMP:20260420T104911
CREATED:20240809T090717Z
LAST-MODIFIED:20251113T091746Z
UID:10001002-1757944800-1757952000@arcade-sages-femmes.ch
SUMMARY:Nesting : atelier de sensibilisation à la santé environnementale
DESCRIPTION:Un atelier collaboratif et ludique pour nous aider à créer un environnement intérieur sain en repérant les polluants de la maison et en trouvant des alternatives saines et durables. \nSans inscription
URL:https://arcade-sages-femmes.ch/evenement/nesting-atelier-de-sensibilisation-a-la-sante-environnementale/2025-09-15/
LOCATION:Arcade Sages-Femmes Genève\, Carl-Vogt 85\, Genève\, 1205
CATEGORIES:Après la Naissane,En Groupe,Genève,Gratuit et sans inscription
END:VEVENT
BEGIN:VEVENT
DTSTART;TZID=Europe/Zurich:20250915T180000
DTEND;TZID=Europe/Zurich:20250915T193000
DTSTAMP:20260420T104911
CREATED:20250508T135205Z
LAST-MODIFIED:20250508T135205Z
UID:10000909-1757959200-1757964600@arcade-sages-femmes.ch
SUMMARY:Diététique séances pour femmes enceintes par Zoom
DESCRIPTION:Un espace dédié pour poser vos questions\, obtenir des informations sur vos besoins alimentaires\, retrouver un poids santé après l’accouchement\, et discuter des précautions spécifiques à prendre après la grossesse \n\nLien\nID de réunion : 891 1345 6518\nCode secret : 931989
URL:https://arcade-sages-femmes.ch/evenement/dietetique-seances-pour-femmes-enceintes-par-zoom-2-2-3/
LOCATION:Arcade Sages-Femmes Genève\, Carl-Vogt 85\, Genève\, 1205
CATEGORIES:En Groupe,Genève,Gratuit et sans inscription,Grossesse
END:VEVENT
END:VCALENDAR